BEGIN:VCALENDAR
VERSION:2.0
PRODID:-//ORARI - ECPv6.15.12.2//NONSGML v1.0//EN
CALSCALE:GREGORIAN
METHOD:PUBLISH
X-ORIGINAL-URL:https://orari.or.id
X-WR-CALDESC:Events for ORARI
REFRESH-INTERVAL;VALUE=DURATION:PT1H
X-Robots-Tag:noindex
X-PUBLISHED-TTL:PT1H
BEGIN:VTIMEZONE
TZID:Asia/Krasnoyarsk
BEGIN:DAYLIGHT
TZOFFSETFROM:+0700
TZOFFSETTO:+0800
TZNAME:+08
DTSTART:19810331T170000
END:DAYLIGHT
BEGIN:STANDARD
TZOFFSETFROM:+0800
TZOFFSETTO:+0700
TZNAME:+07
DTSTART:19810930T160000
END:STANDARD
BEGIN:DAYLIGHT
TZOFFSETFROM:+0700
TZOFFSETTO:+0800
TZNAME:+08
DTSTART:19820331T170000
END:DAYLIGHT
BEGIN:STANDARD
TZOFFSETFROM:+0800
TZOFFSETTO:+0700
TZNAME:+07
DTSTART:19820930T160000
END:STANDARD
BEGIN:DAYLIGHT
TZOFFSETFROM:+0700
TZOFFSETTO:+0800
TZNAME:+08
DTSTART:19830331T170000
END:DAYLIGHT
BEGIN:STANDARD
TZOFFSETFROM:+0800
TZOFFSETTO:+0700
TZNAME:+07
DTSTART:19830930T160000
END:STANDARD
BEGIN:DAYLIGHT
TZOFFSETFROM:+0700
TZOFFSETTO:+0800
TZNAME:+08
DTSTART:19840331T170000
END:DAYLIGHT
BEGIN:STANDARD
TZOFFSETFROM:+0800
TZOFFSETTO:+0700
TZNAME:+07
DTSTART:19840929T190000
END:STANDARD
BEGIN:DAYLIGHT
TZOFFSETFROM:+0700
TZOFFSETTO:+0800
TZNAME:+08
DTSTART:19850330T190000
END:DAYLIGHT
BEGIN:STANDARD
TZOFFSETFROM:+0800
TZOFFSETTO:+0700
TZNAME:+07
DTSTART:19850928T190000
END:STANDARD
BEGIN:DAYLIGHT
TZOFFSETFROM:+0700
TZOFFSETTO:+0800
TZNAME:+08
DTSTART:19860329T190000
END:DAYLIGHT
BEGIN:STANDARD
TZOFFSETFROM:+0800
TZOFFSETTO:+0700
TZNAME:+07
DTSTART:19860927T190000
END:STANDARD
BEGIN:DAYLIGHT
TZOFFSETFROM:+0700
TZOFFSETTO:+0800
TZNAME:+08
DTSTART:19870328T190000
END:DAYLIGHT
BEGIN:STANDARD
TZOFFSETFROM:+0800
TZOFFSETTO:+0700
TZNAME:+07
DTSTART:19870926T190000
END:STANDARD
BEGIN:DAYLIGHT
TZOFFSETFROM:+0700
TZOFFSETTO:+0800
TZNAME:+08
DTSTART:19880326T190000
END:DAYLIGHT
BEGIN:STANDARD
TZOFFSETFROM:+0800
TZOFFSETTO:+0700
TZNAME:+07
DTSTART:19880924T190000
END:STANDARD
BEGIN:DAYLIGHT
TZOFFSETFROM:+0700
TZOFFSETTO:+0800
TZNAME:+08
DTSTART:19890325T190000
END:DAYLIGHT
BEGIN:STANDARD
TZOFFSETFROM:+0800
TZOFFSETTO:+0700
TZNAME:+07
DTSTART:19890923T190000
END:STANDARD
BEGIN:DAYLIGHT
TZOFFSETFROM:+0700
TZOFFSETTO:+0800
TZNAME:+08
DTSTART:19900324T190000
END:DAYLIGHT
BEGIN:STANDARD
TZOFFSETFROM:+0800
TZOFFSETTO:+0700
TZNAME:+07
DTSTART:19900929T190000
END:STANDARD
BEGIN:DAYLIGHT
TZOFFSETFROM:+0700
TZOFFSETTO:+0700
TZNAME:+07
DTSTART:19910330T190000
END:DAYLIGHT
BEGIN:STANDARD
TZOFFSETFROM:+0700
TZOFFSETTO:+0600
TZNAME:+06
DTSTART:19910928T200000
END:STANDARD
BEGIN:STANDARD
TZOFFSETFROM:+0600
TZOFFSETTO:+0700
TZNAME:+07
DTSTART:19920118T200000
END:STANDARD
BEGIN:DAYLIGHT
TZOFFSETFROM:+0700
TZOFFSETTO:+0800
TZNAME:+08
DTSTART:19920328T190000
END:DAYLIGHT
BEGIN:STANDARD
TZOFFSETFROM:+0800
TZOFFSETTO:+0700
TZNAME:+07
DTSTART:19920926T190000
END:STANDARD
BEGIN:DAYLIGHT
TZOFFSETFROM:+0700
TZOFFSETTO:+0800
TZNAME:+08
DTSTART:19930327T190000
END:DAYLIGHT
BEGIN:STANDARD
TZOFFSETFROM:+0800
TZOFFSETTO:+0700
TZNAME:+07
DTSTART:19930925T190000
END:STANDARD
BEGIN:DAYLIGHT
TZOFFSETFROM:+0700
TZOFFSETTO:+0800
TZNAME:+08
DTSTART:19940326T190000
END:DAYLIGHT
BEGIN:STANDARD
TZOFFSETFROM:+0800
TZOFFSETTO:+0700
TZNAME:+07
DTSTART:19940924T190000
END:STANDARD
BEGIN:DAYLIGHT
TZOFFSETFROM:+0700
TZOFFSETTO:+0800
TZNAME:+08
DTSTART:19950325T190000
END:DAYLIGHT
BEGIN:STANDARD
TZOFFSETFROM:+0800
TZOFFSETTO:+0700
TZNAME:+07
DTSTART:19950923T190000
END:STANDARD
BEGIN:DAYLIGHT
TZOFFSETFROM:+0700
TZOFFSETTO:+0800
TZNAME:+08
DTSTART:19960330T190000
END:DAYLIGHT
BEGIN:STANDARD
TZOFFSETFROM:+0800
TZOFFSETTO:+0700
TZNAME:+07
DTSTART:19961026T190000
END:STANDARD
BEGIN:DAYLIGHT
TZOFFSETFROM:+0700
TZOFFSETTO:+0800
TZNAME:+08
DTSTART:19970329T190000
END:DAYLIGHT
BEGIN:STANDARD
TZOFFSETFROM:+0800
TZOFFSETTO:+0700
TZNAME:+07
DTSTART:19971025T190000
END:STANDARD
BEGIN:DAYLIGHT
TZOFFSETFROM:+0700
TZOFFSETTO:+0800
TZNAME:+08
DTSTART:19980328T190000
END:DAYLIGHT
BEGIN:STANDARD
TZOFFSETFROM:+0800
TZOFFSETTO:+0700
TZNAME:+07
DTSTART:19981024T190000
END:STANDARD
BEGIN:DAYLIGHT
TZOFFSETFROM:+0700
TZOFFSETTO:+0800
TZNAME:+08
DTSTART:19990327T190000
END:DAYLIGHT
BEGIN:STANDARD
TZOFFSETFROM:+0800
TZOFFSETTO:+0700
TZNAME:+07
DTSTART:19991030T190000
END:STANDARD
BEGIN:DAYLIGHT
TZOFFSETFROM:+0700
TZOFFSETTO:+0800
TZNAME:+08
DTSTART:20000325T190000
END:DAYLIGHT
BEGIN:STANDARD
TZOFFSETFROM:+0800
TZOFFSETTO:+0700
TZNAME:+07
DTSTART:20001028T190000
END:STANDARD
BEGIN:DAYLIGHT
TZOFFSETFROM:+0700
TZOFFSETTO:+0800
TZNAME:+08
DTSTART:20010324T190000
END:DAYLIGHT
BEGIN:STANDARD
TZOFFSETFROM:+0800
TZOFFSETTO:+0700
TZNAME:+07
DTSTART:20011027T190000
END:STANDARD
BEGIN:DAYLIGHT
TZOFFSETFROM:+0700
TZOFFSETTO:+0800
TZNAME:+08
DTSTART:20020330T190000
END:DAYLIGHT
BEGIN:STANDARD
TZOFFSETFROM:+0800
TZOFFSETTO:+0700
TZNAME:+07
DTSTART:20021026T190000
END:STANDARD
BEGIN:DAYLIGHT
TZOFFSETFROM:+0700
TZOFFSETTO:+0800
TZNAME:+08
DTSTART:20030329T190000
END:DAYLIGHT
BEGIN:STANDARD
TZOFFSETFROM:+0800
TZOFFSETTO:+0700
TZNAME:+07
DTSTART:20031025T190000
END:STANDARD
BEGIN:DAYLIGHT
TZOFFSETFROM:+0700
TZOFFSETTO:+0800
TZNAME:+08
DTSTART:20040327T190000
END:DAYLIGHT
BEGIN:STANDARD
TZOFFSETFROM:+0800
TZOFFSETTO:+0700
TZNAME:+07
DTSTART:20041030T190000
END:STANDARD
BEGIN:DAYLIGHT
TZOFFSETFROM:+0700
TZOFFSETTO:+0800
TZNAME:+08
DTSTART:20050326T190000
END:DAYLIGHT
BEGIN:STANDARD
TZOFFSETFROM:+0800
TZOFFSETTO:+0700
TZNAME:+07
DTSTART:20051029T190000
END:STANDARD
BEGIN:DAYLIGHT
TZOFFSETFROM:+0700
TZOFFSETTO:+0800
TZNAME:+08
DTSTART:20060325T190000
END:DAYLIGHT
BEGIN:STANDARD
TZOFFSETFROM:+0800
TZOFFSETTO:+0700
TZNAME:+07
DTSTART:20061028T190000
END:STANDARD
BEGIN:DAYLIGHT
TZOFFSETFROM:+0700
TZOFFSETTO:+0800
TZNAME:+08
DTSTART:20070324T190000
END:DAYLIGHT
BEGIN:STANDARD
TZOFFSETFROM:+0800
TZOFFSETTO:+0700
TZNAME:+07
DTSTART:20071027T190000
END:STANDARD
BEGIN:DAYLIGHT
TZOFFSETFROM:+0700
TZOFFSETTO:+0800
TZNAME:+08
DTSTART:20080329T190000
END:DAYLIGHT
BEGIN:STANDARD
TZOFFSETFROM:+0800
TZOFFSETTO:+0700
TZNAME:+07
DTSTART:20081025T190000
END:STANDARD
BEGIN:DAYLIGHT
TZOFFSETFROM:+0700
TZOFFSETTO:+0800
TZNAME:+08
DTSTART:20090328T190000
END:DAYLIGHT
BEGIN:STANDARD
TZOFFSETFROM:+0800
TZOFFSETTO:+0700
TZNAME:+07
DTSTART:20091024T190000
END:STANDARD
BEGIN:DAYLIGHT
TZOFFSETFROM:+0700
TZOFFSETTO:+0800
TZNAME:+08
DTSTART:20100327T190000
END:DAYLIGHT
BEGIN:STANDARD
TZOFFSETFROM:+0800
TZOFFSETTO:+0700
TZNAME:+07
DTSTART:20101030T190000
END:STANDARD
BEGIN:STANDARD
TZOFFSETFROM:+0700
TZOFFSETTO:+0800
TZNAME:+08
DTSTART:20110326T190000
END:STANDARD
BEGIN:STANDARD
TZOFFSETFROM:+0800
TZOFFSETTO:+0700
TZNAME:+07
DTSTART:20141025T180000
END:STANDARD
END:VTIMEZONE
BEGIN:VEVENT
DTSTART;TZID=Asia/Krasnoyarsk:20260420T213745
DTEND;TZID=Asia/Krasnoyarsk:20251110T235900
DTSTAMP:20260420T213745
CREATED:20251028T040446Z
LAST-MODIFIED:20251028T040446Z
UID:9996-0-1762819140@orari.or.id
SUMMARY:SES 8A10N
DESCRIPTION:View Fullscreen
URL:https://orari.or.id/event/ses-8a10n/
CATEGORIES:SES
ATTACH;FMTTYPE=image/jpeg:https://orari.or.id/wp-content/uploads/2025/10/WhatsApp-Image-2025-10-24-at-06.04.24.jpeg
END:VEVENT
BEGIN:VEVENT
DTSTART;TZID=Asia/Krasnoyarsk:20250301T000000
DTEND;TZID=Asia/Krasnoyarsk:20250302T235900
DTSTAMP:20260420T213745
CREATED:20250301T093528Z
LAST-MODIFIED:20250301T093528Z
UID:8899-1740787200-1740959940@orari.or.id
SUMMARY:SES 8A299GRB
DESCRIPTION:
URL:https://orari.or.id/event/ses-8a299grb/
CATEGORIES:SES
ATTACH;FMTTYPE=image/jpeg:https://orari.or.id/wp-content/uploads/2025/03/WhatsApp-Image-2025-03-01-at-16.33.17.jpeg
END:VEVENT
BEGIN:VEVENT
DTSTART;TZID=Asia/Krasnoyarsk:20250307T000000
DTEND;TZID=Asia/Krasnoyarsk:20250308T235900
DTSTAMP:20260420T213745
CREATED:20250303T215514Z
LAST-MODIFIED:20250304T222846Z
UID:8953-1741305600-1741478340@orari.or.id
SUMMARY:SES 8A28BKS
DESCRIPTION:View Fullscreen
URL:https://orari.or.id/event/ses-8a28bks/
CATEGORIES:SES
ATTACH;FMTTYPE=image/jpeg:https://orari.or.id/wp-content/uploads/2025/03/WhatsApp-Image-2025-03-05-at-04.15.39.jpeg
END:VEVENT
BEGIN:VEVENT
DTSTART;TZID=Asia/Krasnoyarsk:20250308T050000
DTEND;TZID=Asia/Krasnoyarsk:20250315T055900
DTSTAMP:20260420T213745
CREATED:20250305T014014Z
LAST-MODIFIED:20250306T064449Z
UID:8969-1741410000-1742018340@orari.or.id
SUMMARY:ROTA Award 2025
DESCRIPTION:View Fullscreen
URL:https://orari.or.id/event/rota-award-2025/
CATEGORIES:AWARD
ATTACH;FMTTYPE=image/jpeg:https://orari.or.id/wp-content/uploads/2025/03/WhatsApp-Image-2025-03-04-at-19.38.45.jpeg
END:VEVENT
BEGIN:VEVENT
DTSTART;TZID=Asia/Krasnoyarsk:20250314T080000
DTEND;TZID=Asia/Krasnoyarsk:20250314T170000
DTSTAMP:20260420T213745
CREATED:20250314T022328Z
LAST-MODIFIED:20250314T022328Z
UID:9047-1741939200-1741971600@orari.or.id
SUMMARY:IARU Region 3 the 2  nd Workshop on March23  rd \, 2025. (Sunday)
DESCRIPTION:View Fullscreen
URL:https://orari.or.id/event/iaru-region-3-the-2-nd-workshop-on-march23-rd-2025-sunday/
CATEGORIES:Zoom
ATTACH;FMTTYPE=image/png:https://orari.or.id/wp-content/uploads/2025/03/100-Year-IARU-Logo.png
END:VEVENT
BEGIN:VEVENT
DTSTART;TZID=Asia/Krasnoyarsk:20250315T000000
DTEND;TZID=Asia/Krasnoyarsk:20250316T235900
DTSTAMP:20260420T213745
CREATED:20250311T154939Z
LAST-MODIFIED:20250313T113305Z
UID:9000-1741996800-1742169540@orari.or.id
SUMMARY:SES 8A11SM
DESCRIPTION:View Fullscreen
URL:https://orari.or.id/event/ses-8a11sm/
CATEGORIES:SES
ATTACH;FMTTYPE=image/png:https://orari.or.id/wp-content/uploads/2025/03/0C0609FF-45F0-4DC1-84BF-6665BC017CC2.png
END:VEVENT
BEGIN:VEVENT
DTSTART;TZID=Asia/Krasnoyarsk:20250315T160000
DTEND;TZID=Asia/Krasnoyarsk:20250315T220000
DTSTAMP:20260420T213745
CREATED:20250308T144848Z
LAST-MODIFIED:20250309T132217Z
UID:8988-1742054400-1742076000@orari.or.id
SUMMARY:SES 8D1446R
DESCRIPTION:View Fullscreen
URL:https://orari.or.id/event/ramadhan-net-dan-ses-ramadhan-1446-h/
CATEGORIES:SES
ATTACH;FMTTYPE=image/jpeg:https://orari.or.id/wp-content/uploads/2025/03/BANNER-RAMADHAN-NET-08-1.jpg
END:VEVENT
BEGIN:VEVENT
DTSTART;TZID=Asia/Krasnoyarsk:20250315T210000
DTEND;TZID=Asia/Krasnoyarsk:20250319T220000
DTSTAMP:20260420T213745
CREATED:20250314T021920Z
LAST-MODIFIED:20250314T022020Z
UID:9042-1742072400-1742421600@orari.or.id
SUMMARY:RAMADHAN NET YH1AE
DESCRIPTION:View Fullscreen
URL:https://orari.or.id/event/ramadhan-net-yh1ae/
CATEGORIES:SES
ATTACH;FMTTYPE=image/jpeg:https://orari.or.id/wp-content/uploads/2025/03/ramnet.jpeg
END:VEVENT
BEGIN:VEVENT
DTSTART;TZID=Asia/Krasnoyarsk:20250316T200000
DTEND;TZID=Asia/Krasnoyarsk:20250316T210000
DTSTAMP:20260420T213745
CREATED:20250314T021512Z
LAST-MODIFIED:20250314T021512Z
UID:9038-1742155200-1742158800@orari.or.id
SUMMARY:SES 8A1446NQ
DESCRIPTION:View Fullscreen
URL:https://orari.or.id/event/ses-8a1446nq/
CATEGORIES:SES
ATTACH;FMTTYPE=image/jpeg:https://orari.or.id/wp-content/uploads/2025/03/IMG-20250311-WA0036.jpg
END:VEVENT
BEGIN:VEVENT
DTSTART;TZID=Asia/Krasnoyarsk:20250319T000000
DTEND;TZID=Asia/Krasnoyarsk:20250410T235900
DTSTAMP:20260420T213745
CREATED:20250319T055125Z
LAST-MODIFIED:20250319T055125Z
UID:9060-1742342400-1744329540@orari.or.id
SUMMARY:LOMBA DESIGN LOGO   “ORDA JATIM HAM FAIR 2025”
DESCRIPTION:View Fullscreen
URL:https://orari.or.id/event/lomba-design-logo-orda-jatim-ham-fair-2025/
CATEGORIES:Hamfair
ATTACH;FMTTYPE=image/png:https://orari.or.id/wp-content/uploads/2025/03/ordajatim.png
END:VEVENT
BEGIN:VEVENT
DTSTART;TZID=Asia/Krasnoyarsk:20250320T000000
DTEND;TZID=Asia/Krasnoyarsk:20250323T235900
DTSTAMP:20260420T213745
CREATED:20250312T085817Z
LAST-MODIFIED:20250312T085817Z
UID:9020-1742428800-1742774340@orari.or.id
SUMMARY:SES 8C169CLP
DESCRIPTION:View Fullscreen
URL:https://orari.or.id/event/ses-8c169clp/
CATEGORIES:SES
ATTACH;FMTTYPE=image/jpeg:https://orari.or.id/wp-content/uploads/2025/03/WhatsApp-Image-2025-03-12-at-10.17.51.jpeg
END:VEVENT
BEGIN:VEVENT
DTSTART;TZID=Asia/Krasnoyarsk:20250324T000000
DTEND;TZID=Asia/Krasnoyarsk:20250324T235900
DTSTAMP:20260420T213745
CREATED:20250319T052400Z
LAST-MODIFIED:20250319T052400Z
UID:9051-1742774400-1742860740@orari.or.id
SUMMARY:SES 8A421SGR
DESCRIPTION:View Fullscreen
URL:https://orari.or.id/event/ses-8a421sgr/
CATEGORIES:SES
ATTACH;FMTTYPE=image/jpeg:https://orari.or.id/wp-content/uploads/2025/03/Bander-HUT-Singaraja-421-high-scaled.jpg
END:VEVENT
END:VCALENDAR