BEGIN:VCALENDAR
VERSION:2.0
PRODID:-//ORARI - ECPv6.15.12.2//NONSGML v1.0//EN
CALSCALE:GREGORIAN
METHOD:PUBLISH
X-ORIGINAL-URL:https://orari.or.id
X-WR-CALDESC:Events for ORARI
REFRESH-INTERVAL;VALUE=DURATION:PT1H
X-Robots-Tag:noindex
X-PUBLISHED-TTL:PT1H
BEGIN:VTIMEZONE
TZID:Asia/Krasnoyarsk
BEGIN:DAYLIGHT
TZOFFSETFROM:+0700
TZOFFSETTO:+0800
TZNAME:+08
DTSTART:19810331T170000
END:DAYLIGHT
BEGIN:STANDARD
TZOFFSETFROM:+0800
TZOFFSETTO:+0700
TZNAME:+07
DTSTART:19810930T160000
END:STANDARD
BEGIN:DAYLIGHT
TZOFFSETFROM:+0700
TZOFFSETTO:+0800
TZNAME:+08
DTSTART:19820331T170000
END:DAYLIGHT
BEGIN:STANDARD
TZOFFSETFROM:+0800
TZOFFSETTO:+0700
TZNAME:+07
DTSTART:19820930T160000
END:STANDARD
BEGIN:DAYLIGHT
TZOFFSETFROM:+0700
TZOFFSETTO:+0800
TZNAME:+08
DTSTART:19830331T170000
END:DAYLIGHT
BEGIN:STANDARD
TZOFFSETFROM:+0800
TZOFFSETTO:+0700
TZNAME:+07
DTSTART:19830930T160000
END:STANDARD
BEGIN:DAYLIGHT
TZOFFSETFROM:+0700
TZOFFSETTO:+0800
TZNAME:+08
DTSTART:19840331T170000
END:DAYLIGHT
BEGIN:STANDARD
TZOFFSETFROM:+0800
TZOFFSETTO:+0700
TZNAME:+07
DTSTART:19840929T190000
END:STANDARD
BEGIN:DAYLIGHT
TZOFFSETFROM:+0700
TZOFFSETTO:+0800
TZNAME:+08
DTSTART:19850330T190000
END:DAYLIGHT
BEGIN:STANDARD
TZOFFSETFROM:+0800
TZOFFSETTO:+0700
TZNAME:+07
DTSTART:19850928T190000
END:STANDARD
BEGIN:DAYLIGHT
TZOFFSETFROM:+0700
TZOFFSETTO:+0800
TZNAME:+08
DTSTART:19860329T190000
END:DAYLIGHT
BEGIN:STANDARD
TZOFFSETFROM:+0800
TZOFFSETTO:+0700
TZNAME:+07
DTSTART:19860927T190000
END:STANDARD
BEGIN:DAYLIGHT
TZOFFSETFROM:+0700
TZOFFSETTO:+0800
TZNAME:+08
DTSTART:19870328T190000
END:DAYLIGHT
BEGIN:STANDARD
TZOFFSETFROM:+0800
TZOFFSETTO:+0700
TZNAME:+07
DTSTART:19870926T190000
END:STANDARD
BEGIN:DAYLIGHT
TZOFFSETFROM:+0700
TZOFFSETTO:+0800
TZNAME:+08
DTSTART:19880326T190000
END:DAYLIGHT
BEGIN:STANDARD
TZOFFSETFROM:+0800
TZOFFSETTO:+0700
TZNAME:+07
DTSTART:19880924T190000
END:STANDARD
BEGIN:DAYLIGHT
TZOFFSETFROM:+0700
TZOFFSETTO:+0800
TZNAME:+08
DTSTART:19890325T190000
END:DAYLIGHT
BEGIN:STANDARD
TZOFFSETFROM:+0800
TZOFFSETTO:+0700
TZNAME:+07
DTSTART:19890923T190000
END:STANDARD
BEGIN:DAYLIGHT
TZOFFSETFROM:+0700
TZOFFSETTO:+0800
TZNAME:+08
DTSTART:19900324T190000
END:DAYLIGHT
BEGIN:STANDARD
TZOFFSETFROM:+0800
TZOFFSETTO:+0700
TZNAME:+07
DTSTART:19900929T190000
END:STANDARD
BEGIN:DAYLIGHT
TZOFFSETFROM:+0700
TZOFFSETTO:+0700
TZNAME:+07
DTSTART:19910330T190000
END:DAYLIGHT
BEGIN:STANDARD
TZOFFSETFROM:+0700
TZOFFSETTO:+0600
TZNAME:+06
DTSTART:19910928T200000
END:STANDARD
BEGIN:STANDARD
TZOFFSETFROM:+0600
TZOFFSETTO:+0700
TZNAME:+07
DTSTART:19920118T200000
END:STANDARD
BEGIN:DAYLIGHT
TZOFFSETFROM:+0700
TZOFFSETTO:+0800
TZNAME:+08
DTSTART:19920328T190000
END:DAYLIGHT
BEGIN:STANDARD
TZOFFSETFROM:+0800
TZOFFSETTO:+0700
TZNAME:+07
DTSTART:19920926T190000
END:STANDARD
BEGIN:DAYLIGHT
TZOFFSETFROM:+0700
TZOFFSETTO:+0800
TZNAME:+08
DTSTART:19930327T190000
END:DAYLIGHT
BEGIN:STANDARD
TZOFFSETFROM:+0800
TZOFFSETTO:+0700
TZNAME:+07
DTSTART:19930925T190000
END:STANDARD
BEGIN:DAYLIGHT
TZOFFSETFROM:+0700
TZOFFSETTO:+0800
TZNAME:+08
DTSTART:19940326T190000
END:DAYLIGHT
BEGIN:STANDARD
TZOFFSETFROM:+0800
TZOFFSETTO:+0700
TZNAME:+07
DTSTART:19940924T190000
END:STANDARD
BEGIN:DAYLIGHT
TZOFFSETFROM:+0700
TZOFFSETTO:+0800
TZNAME:+08
DTSTART:19950325T190000
END:DAYLIGHT
BEGIN:STANDARD
TZOFFSETFROM:+0800
TZOFFSETTO:+0700
TZNAME:+07
DTSTART:19950923T190000
END:STANDARD
BEGIN:DAYLIGHT
TZOFFSETFROM:+0700
TZOFFSETTO:+0800
TZNAME:+08
DTSTART:19960330T190000
END:DAYLIGHT
BEGIN:STANDARD
TZOFFSETFROM:+0800
TZOFFSETTO:+0700
TZNAME:+07
DTSTART:19961026T190000
END:STANDARD
BEGIN:DAYLIGHT
TZOFFSETFROM:+0700
TZOFFSETTO:+0800
TZNAME:+08
DTSTART:19970329T190000
END:DAYLIGHT
BEGIN:STANDARD
TZOFFSETFROM:+0800
TZOFFSETTO:+0700
TZNAME:+07
DTSTART:19971025T190000
END:STANDARD
BEGIN:DAYLIGHT
TZOFFSETFROM:+0700
TZOFFSETTO:+0800
TZNAME:+08
DTSTART:19980328T190000
END:DAYLIGHT
BEGIN:STANDARD
TZOFFSETFROM:+0800
TZOFFSETTO:+0700
TZNAME:+07
DTSTART:19981024T190000
END:STANDARD
BEGIN:DAYLIGHT
TZOFFSETFROM:+0700
TZOFFSETTO:+0800
TZNAME:+08
DTSTART:19990327T190000
END:DAYLIGHT
BEGIN:STANDARD
TZOFFSETFROM:+0800
TZOFFSETTO:+0700
TZNAME:+07
DTSTART:19991030T190000
END:STANDARD
BEGIN:DAYLIGHT
TZOFFSETFROM:+0700
TZOFFSETTO:+0800
TZNAME:+08
DTSTART:20000325T190000
END:DAYLIGHT
BEGIN:STANDARD
TZOFFSETFROM:+0800
TZOFFSETTO:+0700
TZNAME:+07
DTSTART:20001028T190000
END:STANDARD
BEGIN:DAYLIGHT
TZOFFSETFROM:+0700
TZOFFSETTO:+0800
TZNAME:+08
DTSTART:20010324T190000
END:DAYLIGHT
BEGIN:STANDARD
TZOFFSETFROM:+0800
TZOFFSETTO:+0700
TZNAME:+07
DTSTART:20011027T190000
END:STANDARD
BEGIN:DAYLIGHT
TZOFFSETFROM:+0700
TZOFFSETTO:+0800
TZNAME:+08
DTSTART:20020330T190000
END:DAYLIGHT
BEGIN:STANDARD
TZOFFSETFROM:+0800
TZOFFSETTO:+0700
TZNAME:+07
DTSTART:20021026T190000
END:STANDARD
BEGIN:DAYLIGHT
TZOFFSETFROM:+0700
TZOFFSETTO:+0800
TZNAME:+08
DTSTART:20030329T190000
END:DAYLIGHT
BEGIN:STANDARD
TZOFFSETFROM:+0800
TZOFFSETTO:+0700
TZNAME:+07
DTSTART:20031025T190000
END:STANDARD
BEGIN:DAYLIGHT
TZOFFSETFROM:+0700
TZOFFSETTO:+0800
TZNAME:+08
DTSTART:20040327T190000
END:DAYLIGHT
BEGIN:STANDARD
TZOFFSETFROM:+0800
TZOFFSETTO:+0700
TZNAME:+07
DTSTART:20041030T190000
END:STANDARD
BEGIN:DAYLIGHT
TZOFFSETFROM:+0700
TZOFFSETTO:+0800
TZNAME:+08
DTSTART:20050326T190000
END:DAYLIGHT
BEGIN:STANDARD
TZOFFSETFROM:+0800
TZOFFSETTO:+0700
TZNAME:+07
DTSTART:20051029T190000
END:STANDARD
BEGIN:DAYLIGHT
TZOFFSETFROM:+0700
TZOFFSETTO:+0800
TZNAME:+08
DTSTART:20060325T190000
END:DAYLIGHT
BEGIN:STANDARD
TZOFFSETFROM:+0800
TZOFFSETTO:+0700
TZNAME:+07
DTSTART:20061028T190000
END:STANDARD
BEGIN:DAYLIGHT
TZOFFSETFROM:+0700
TZOFFSETTO:+0800
TZNAME:+08
DTSTART:20070324T190000
END:DAYLIGHT
BEGIN:STANDARD
TZOFFSETFROM:+0800
TZOFFSETTO:+0700
TZNAME:+07
DTSTART:20071027T190000
END:STANDARD
BEGIN:DAYLIGHT
TZOFFSETFROM:+0700
TZOFFSETTO:+0800
TZNAME:+08
DTSTART:20080329T190000
END:DAYLIGHT
BEGIN:STANDARD
TZOFFSETFROM:+0800
TZOFFSETTO:+0700
TZNAME:+07
DTSTART:20081025T190000
END:STANDARD
BEGIN:DAYLIGHT
TZOFFSETFROM:+0700
TZOFFSETTO:+0800
TZNAME:+08
DTSTART:20090328T190000
END:DAYLIGHT
BEGIN:STANDARD
TZOFFSETFROM:+0800
TZOFFSETTO:+0700
TZNAME:+07
DTSTART:20091024T190000
END:STANDARD
BEGIN:DAYLIGHT
TZOFFSETFROM:+0700
TZOFFSETTO:+0800
TZNAME:+08
DTSTART:20100327T190000
END:DAYLIGHT
BEGIN:STANDARD
TZOFFSETFROM:+0800
TZOFFSETTO:+0700
TZNAME:+07
DTSTART:20101030T190000
END:STANDARD
BEGIN:STANDARD
TZOFFSETFROM:+0700
TZOFFSETTO:+0800
TZNAME:+08
DTSTART:20110326T190000
END:STANDARD
BEGIN:STANDARD
TZOFFSETFROM:+0800
TZOFFSETTO:+0700
TZNAME:+07
DTSTART:20141025T180000
END:STANDARD
END:VTIMEZONE
BEGIN:VTIMEZONE
TZID:UTC
BEGIN:STANDARD
TZOFFSETFROM:+0000
TZOFFSETTO:+0000
TZNAME:UTC
DTSTART:20210101T000000
END:STANDARD
END:VTIMEZONE
BEGIN:VEVENT
DTSTART;TZID=Asia/Krasnoyarsk:20220311T000000
DTEND;TZID=Asia/Krasnoyarsk:20220311T235900
DTSTAMP:20260420T013914
CREATED:20220223T090821Z
LAST-MODIFIED:20220223T090821Z
UID:2341-1646956800-1647043140@orari.or.id
SUMMARY:Special Call 8A35PML
DESCRIPTION:View Fullscreen
URL:https://orari.or.id/event/special-call-8a35pml/
ATTACH;FMTTYPE=image/png:https://orari.or.id/wp-content/uploads/2022/02/1Artboard-1-copy-3@2x.png
END:VEVENT
BEGIN:VEVENT
DTSTART;TZID=Asia/Krasnoyarsk:20220226T100000
DTEND;TZID=Asia/Krasnoyarsk:20220226T235900
DTSTAMP:20260420T013914
CREATED:20220224T054145Z
LAST-MODIFIED:20220224T054238Z
UID:2346-1645869600-1645919940@orari.or.id
SUMMARY:IPOTA  Demang Lehman Park
DESCRIPTION:Taman Demang Lehman berada di Desa Indra Sari\, Kecamatan Martapura\, Kabupaten Banjar. \nDemang Lehman adalah salah seorang Panglima Perang dalam Perang \nDemang Lehman semula merupakan seorang panakawan (Ajudan) dari Pangeran Hidayatullah II sejak 1857. \nKarena kesetiaan dan besarnya jasa sebagai panakawan dari Pangeran Hidayatullah II\, dia diangkat menjadi Kiai sebagai lalawangan atau kepala Distrik Riam Kanan. \nTaman ini dibangun sejak tahun 2017 oleh Pemerintah Kabupaten Banjar. \nLokasi taman yang berada di sisi Jalan Desa Indra Sari ini memudahkan Masyarakat datang ke taman tersebut\, mulai dari anak-anak hingga orang dewasa. \nAda yang datang untuk berolahraga seperti jogging\, senam\, berfoto selfie dan ada juga yang hanya sekedar duduk santai bersama teman maupun keluarga. \nTaman Demang Lehman ini setiap hari selalu ramai dikunjungi\, di antaranya pada pukul 08.00 wita dan pukul 16.00 wita. \nDi taman ini juga menyediakan fasilitas tempat jogging\, sarana olahraga di antaranya panjat tebing\, Lapangan Voli dan Lapangan Badminton. \nBerkaitan dengan adanya beberapa kegitan bidang keamatiran outdoor yang di naungi ORARI dan dalam hal ini Orari Lokal Banjar akan mengadakan aktivasi kegiatan IPOTA ( Indonesia Park On The Air ) yang dilaksanakan pada Tanggal 26 Februari 2022 dan juga untuk aktivator langsung dipimpin ketua Orari Lokal Banjar HM. Arsyad SE ( YC7ILV)\, yang mana kegiatan tersebut bertujuan untuk mengenalkan potensi potensi kawasan obyek wisata yang ada di Kabupaten Banjar lewat jalur komunikasi pada Band 40 meter band\, baik untuk sesama Amatir Indonesia maupun Amatir dari luar negeri.
URL:https://orari.or.id/event/ipota-demang-lehman-park/
LOCATION:Demang Lehman Park\, Desa Indra Sari\, Kecamatan Martapura\,\, Banjar\, Kalimantan Selatan\, Indonesia
CATEGORIES:POTA
ATTACH;FMTTYPE=image/jpeg:https://orari.or.id/wp-content/uploads/2022/02/9eddf56c-7469-4629-8358-0feb2cb1f63b-1.jpg
END:VEVENT
BEGIN:VEVENT
DTSTART;TZID=Asia/Krasnoyarsk:20220226T000000
DTEND;TZID=Asia/Krasnoyarsk:20220227T235900
DTSTAMP:20260420T013914
CREATED:20220223T025459Z
LAST-MODIFIED:20220223T091707Z
UID:2306-1645833600-1646006340@orari.or.id
SUMMARY:LOTA Danau Diatas Sumatera Barat
DESCRIPTION:Dalam rangka menggairahkan kegiatan Amatir Radio Komunitas Dxpedition   AR Sumatera Barat mengadakan “Lakes On The Air” dimana saat ini akan diadakan di Danau Diatas Sumatera Barat pada Sabtu tanggal 26-27 Februari 2022 mulai pukul 08.00 WIB. \nActivator yang akan tampil pada event kali ini antara lain :\nYB5CHJ – Ira Chairawaty\nYB5HPT – H.Syamsunir P.S\nYC5ACD – Ronald Budiman\nYC5AKH – Riko Yulrahmen\nYC5ARZ – Nasrul Azwar\nYC5LBD – Heriyanti\nYD5AKV – Riki Azwar\nYD5APT – Rahil Ramadhan\nYD5ASJ – Bayu Fakhrurrazi\nYD5AOX – Riki Saputra\nYD5AIP – Yoki Fernanda\nYD5APK – Muliyadi Thaib \nKegiatan ini akan bekerja pada  Band 80-40-15-2 M band dengan menggunakan Mode Phone\, Digital dan jika kondisi memungkinkan akan menggunakan mode Satelite. \nKegiatan ini juga didukung oleh :\n* ORARI LOKAL SOLOK\n* Komunitas Dxpedition AR Sumbar\n* YB6-DXC\n* Dxportable Amatir Radio\n* SA-IJAAN Dxpedition Club\n* AMSAT.ID \nMari kita Tetap kobarkan semangat berkegiatan amatir radio dengan tujuan bersama-sama belajar untuk menjadi anggota ORARI yang lebih berkualitas. See you on the band\, 73. \nKontributor Berita : Ronald Budiman-YC5ACD
URL:https://orari.or.id/event/lota-danau-diatas-sumatera-barat/
CATEGORIES:LOTA
ATTACH;FMTTYPE=image/jpeg:https://orari.or.id/wp-content/uploads/2022/02/IOTA2.jpeg
END:VEVENT
BEGIN:VEVENT
DTSTART;TZID=Asia/Krasnoyarsk:20220226T000000
DTEND;TZID=Asia/Krasnoyarsk:20220226T235900
DTSTAMP:20260420T013914
CREATED:20220223T090954Z
LAST-MODIFIED:20220223T091609Z
UID:2343-1645833600-1645919940@orari.or.id
SUMMARY:Special Call 8A451BMS
DESCRIPTION:View Fullscreen
URL:https://orari.or.id/event/special-call-8a451bms/
CATEGORIES:SES
ATTACH;FMTTYPE=image/png:https://orari.or.id/wp-content/uploads/2022/02/1Artboard-1-copy-3.png
END:VEVENT
BEGIN:VEVENT
DTSTART;TZID=Asia/Krasnoyarsk:20220225T000000
DTEND;TZID=Asia/Krasnoyarsk:20220226T235900
DTSTAMP:20260420T013914
CREATED:20220223T090605Z
LAST-MODIFIED:20220223T091758Z
UID:2339-1645747200-1645919940@orari.or.id
SUMMARY:Special Call 8A191PWR
DESCRIPTION:View Fullscreen
URL:https://orari.or.id/event/special-call-8a191pwr/
CATEGORIES:SES
ATTACH;FMTTYPE=image/png:https://orari.or.id/wp-content/uploads/2022/02/1Artboard-1-copy-4@2x.png
END:VEVENT
BEGIN:VEVENT
DTSTART;TZID=UTC:20220219T020000
DTEND;TZID=UTC:20220219T170000
DTSTAMP:20260420T013914
CREATED:20220220T034845Z
LAST-MODIFIED:20220223T091814Z
UID:2296-1645236000-1645290000@orari.or.id
SUMMARY:Special Call 8A35ONN
DESCRIPTION:View Fullscreen
URL:https://orari.or.id/event/special-call-8a35onn/
CATEGORIES:SES
ATTACH;FMTTYPE=image/jpeg:https://orari.or.id/wp-content/uploads/2022/02/1Artboard-1-copy-2.jpg
END:VEVENT
BEGIN:VEVENT
DTSTART;TZID=UTC:20220219T000000
DTEND;TZID=UTC:20220221T235900
DTSTAMP:20260420T013914
CREATED:20220220T035135Z
LAST-MODIFIED:20220223T091829Z
UID:2298-1645228800-1645487940@orari.or.id
SUMMARY:8C9MGP
DESCRIPTION:View Fullscreen
URL:https://orari.or.id/event/8c9mgp/
CATEGORIES:SES
ATTACH;FMTTYPE=image/jpeg:https://orari.or.id/wp-content/uploads/2022/02/1Artboard-1-copy.jpg
END:VEVENT
BEGIN:VEVENT
DTSTART;TZID=Asia/Krasnoyarsk:20260420T013914
DTEND;TZID=Asia/Krasnoyarsk:20251110T235900
DTSTAMP:20260420T013914
CREATED:20251028T040446Z
LAST-MODIFIED:20251028T040446Z
UID:9996-0-1762819140@orari.or.id
SUMMARY:SES 8A10N
DESCRIPTION:View Fullscreen
URL:https://orari.or.id/event/ses-8a10n/
CATEGORIES:SES
ATTACH;FMTTYPE=image/jpeg:https://orari.or.id/wp-content/uploads/2025/10/WhatsApp-Image-2025-10-24-at-06.04.24.jpeg
END:VEVENT
END:VCALENDAR