BEGIN:VCALENDAR
VERSION:2.0
PRODID:-//ORARI - ECPv6.15.12.2//NONSGML v1.0//EN
CALSCALE:GREGORIAN
METHOD:PUBLISH
X-ORIGINAL-URL:https://orari.or.id
X-WR-CALDESC:Events for ORARI
REFRESH-INTERVAL;VALUE=DURATION:PT1H
X-Robots-Tag:noindex
X-PUBLISHED-TTL:PT1H
BEGIN:VTIMEZONE
TZID:Asia/Krasnoyarsk
BEGIN:DAYLIGHT
TZOFFSETFROM:+0700
TZOFFSETTO:+0800
TZNAME:+08
DTSTART:19810331T170000
END:DAYLIGHT
BEGIN:STANDARD
TZOFFSETFROM:+0800
TZOFFSETTO:+0700
TZNAME:+07
DTSTART:19810930T160000
END:STANDARD
BEGIN:DAYLIGHT
TZOFFSETFROM:+0700
TZOFFSETTO:+0800
TZNAME:+08
DTSTART:19820331T170000
END:DAYLIGHT
BEGIN:STANDARD
TZOFFSETFROM:+0800
TZOFFSETTO:+0700
TZNAME:+07
DTSTART:19820930T160000
END:STANDARD
BEGIN:DAYLIGHT
TZOFFSETFROM:+0700
TZOFFSETTO:+0800
TZNAME:+08
DTSTART:19830331T170000
END:DAYLIGHT
BEGIN:STANDARD
TZOFFSETFROM:+0800
TZOFFSETTO:+0700
TZNAME:+07
DTSTART:19830930T160000
END:STANDARD
BEGIN:DAYLIGHT
TZOFFSETFROM:+0700
TZOFFSETTO:+0800
TZNAME:+08
DTSTART:19840331T170000
END:DAYLIGHT
BEGIN:STANDARD
TZOFFSETFROM:+0800
TZOFFSETTO:+0700
TZNAME:+07
DTSTART:19840929T190000
END:STANDARD
BEGIN:DAYLIGHT
TZOFFSETFROM:+0700
TZOFFSETTO:+0800
TZNAME:+08
DTSTART:19850330T190000
END:DAYLIGHT
BEGIN:STANDARD
TZOFFSETFROM:+0800
TZOFFSETTO:+0700
TZNAME:+07
DTSTART:19850928T190000
END:STANDARD
BEGIN:DAYLIGHT
TZOFFSETFROM:+0700
TZOFFSETTO:+0800
TZNAME:+08
DTSTART:19860329T190000
END:DAYLIGHT
BEGIN:STANDARD
TZOFFSETFROM:+0800
TZOFFSETTO:+0700
TZNAME:+07
DTSTART:19860927T190000
END:STANDARD
BEGIN:DAYLIGHT
TZOFFSETFROM:+0700
TZOFFSETTO:+0800
TZNAME:+08
DTSTART:19870328T190000
END:DAYLIGHT
BEGIN:STANDARD
TZOFFSETFROM:+0800
TZOFFSETTO:+0700
TZNAME:+07
DTSTART:19870926T190000
END:STANDARD
BEGIN:DAYLIGHT
TZOFFSETFROM:+0700
TZOFFSETTO:+0800
TZNAME:+08
DTSTART:19880326T190000
END:DAYLIGHT
BEGIN:STANDARD
TZOFFSETFROM:+0800
TZOFFSETTO:+0700
TZNAME:+07
DTSTART:19880924T190000
END:STANDARD
BEGIN:DAYLIGHT
TZOFFSETFROM:+0700
TZOFFSETTO:+0800
TZNAME:+08
DTSTART:19890325T190000
END:DAYLIGHT
BEGIN:STANDARD
TZOFFSETFROM:+0800
TZOFFSETTO:+0700
TZNAME:+07
DTSTART:19890923T190000
END:STANDARD
BEGIN:DAYLIGHT
TZOFFSETFROM:+0700
TZOFFSETTO:+0800
TZNAME:+08
DTSTART:19900324T190000
END:DAYLIGHT
BEGIN:STANDARD
TZOFFSETFROM:+0800
TZOFFSETTO:+0700
TZNAME:+07
DTSTART:19900929T190000
END:STANDARD
BEGIN:DAYLIGHT
TZOFFSETFROM:+0700
TZOFFSETTO:+0700
TZNAME:+07
DTSTART:19910330T190000
END:DAYLIGHT
BEGIN:STANDARD
TZOFFSETFROM:+0700
TZOFFSETTO:+0600
TZNAME:+06
DTSTART:19910928T200000
END:STANDARD
BEGIN:STANDARD
TZOFFSETFROM:+0600
TZOFFSETTO:+0700
TZNAME:+07
DTSTART:19920118T200000
END:STANDARD
BEGIN:DAYLIGHT
TZOFFSETFROM:+0700
TZOFFSETTO:+0800
TZNAME:+08
DTSTART:19920328T190000
END:DAYLIGHT
BEGIN:STANDARD
TZOFFSETFROM:+0800
TZOFFSETTO:+0700
TZNAME:+07
DTSTART:19920926T190000
END:STANDARD
BEGIN:DAYLIGHT
TZOFFSETFROM:+0700
TZOFFSETTO:+0800
TZNAME:+08
DTSTART:19930327T190000
END:DAYLIGHT
BEGIN:STANDARD
TZOFFSETFROM:+0800
TZOFFSETTO:+0700
TZNAME:+07
DTSTART:19930925T190000
END:STANDARD
BEGIN:DAYLIGHT
TZOFFSETFROM:+0700
TZOFFSETTO:+0800
TZNAME:+08
DTSTART:19940326T190000
END:DAYLIGHT
BEGIN:STANDARD
TZOFFSETFROM:+0800
TZOFFSETTO:+0700
TZNAME:+07
DTSTART:19940924T190000
END:STANDARD
BEGIN:DAYLIGHT
TZOFFSETFROM:+0700
TZOFFSETTO:+0800
TZNAME:+08
DTSTART:19950325T190000
END:DAYLIGHT
BEGIN:STANDARD
TZOFFSETFROM:+0800
TZOFFSETTO:+0700
TZNAME:+07
DTSTART:19950923T190000
END:STANDARD
BEGIN:DAYLIGHT
TZOFFSETFROM:+0700
TZOFFSETTO:+0800
TZNAME:+08
DTSTART:19960330T190000
END:DAYLIGHT
BEGIN:STANDARD
TZOFFSETFROM:+0800
TZOFFSETTO:+0700
TZNAME:+07
DTSTART:19961026T190000
END:STANDARD
BEGIN:DAYLIGHT
TZOFFSETFROM:+0700
TZOFFSETTO:+0800
TZNAME:+08
DTSTART:19970329T190000
END:DAYLIGHT
BEGIN:STANDARD
TZOFFSETFROM:+0800
TZOFFSETTO:+0700
TZNAME:+07
DTSTART:19971025T190000
END:STANDARD
BEGIN:DAYLIGHT
TZOFFSETFROM:+0700
TZOFFSETTO:+0800
TZNAME:+08
DTSTART:19980328T190000
END:DAYLIGHT
BEGIN:STANDARD
TZOFFSETFROM:+0800
TZOFFSETTO:+0700
TZNAME:+07
DTSTART:19981024T190000
END:STANDARD
BEGIN:DAYLIGHT
TZOFFSETFROM:+0700
TZOFFSETTO:+0800
TZNAME:+08
DTSTART:19990327T190000
END:DAYLIGHT
BEGIN:STANDARD
TZOFFSETFROM:+0800
TZOFFSETTO:+0700
TZNAME:+07
DTSTART:19991030T190000
END:STANDARD
BEGIN:DAYLIGHT
TZOFFSETFROM:+0700
TZOFFSETTO:+0800
TZNAME:+08
DTSTART:20000325T190000
END:DAYLIGHT
BEGIN:STANDARD
TZOFFSETFROM:+0800
TZOFFSETTO:+0700
TZNAME:+07
DTSTART:20001028T190000
END:STANDARD
BEGIN:DAYLIGHT
TZOFFSETFROM:+0700
TZOFFSETTO:+0800
TZNAME:+08
DTSTART:20010324T190000
END:DAYLIGHT
BEGIN:STANDARD
TZOFFSETFROM:+0800
TZOFFSETTO:+0700
TZNAME:+07
DTSTART:20011027T190000
END:STANDARD
BEGIN:DAYLIGHT
TZOFFSETFROM:+0700
TZOFFSETTO:+0800
TZNAME:+08
DTSTART:20020330T190000
END:DAYLIGHT
BEGIN:STANDARD
TZOFFSETFROM:+0800
TZOFFSETTO:+0700
TZNAME:+07
DTSTART:20021026T190000
END:STANDARD
BEGIN:DAYLIGHT
TZOFFSETFROM:+0700
TZOFFSETTO:+0800
TZNAME:+08
DTSTART:20030329T190000
END:DAYLIGHT
BEGIN:STANDARD
TZOFFSETFROM:+0800
TZOFFSETTO:+0700
TZNAME:+07
DTSTART:20031025T190000
END:STANDARD
BEGIN:DAYLIGHT
TZOFFSETFROM:+0700
TZOFFSETTO:+0800
TZNAME:+08
DTSTART:20040327T190000
END:DAYLIGHT
BEGIN:STANDARD
TZOFFSETFROM:+0800
TZOFFSETTO:+0700
TZNAME:+07
DTSTART:20041030T190000
END:STANDARD
BEGIN:DAYLIGHT
TZOFFSETFROM:+0700
TZOFFSETTO:+0800
TZNAME:+08
DTSTART:20050326T190000
END:DAYLIGHT
BEGIN:STANDARD
TZOFFSETFROM:+0800
TZOFFSETTO:+0700
TZNAME:+07
DTSTART:20051029T190000
END:STANDARD
BEGIN:DAYLIGHT
TZOFFSETFROM:+0700
TZOFFSETTO:+0800
TZNAME:+08
DTSTART:20060325T190000
END:DAYLIGHT
BEGIN:STANDARD
TZOFFSETFROM:+0800
TZOFFSETTO:+0700
TZNAME:+07
DTSTART:20061028T190000
END:STANDARD
BEGIN:DAYLIGHT
TZOFFSETFROM:+0700
TZOFFSETTO:+0800
TZNAME:+08
DTSTART:20070324T190000
END:DAYLIGHT
BEGIN:STANDARD
TZOFFSETFROM:+0800
TZOFFSETTO:+0700
TZNAME:+07
DTSTART:20071027T190000
END:STANDARD
BEGIN:DAYLIGHT
TZOFFSETFROM:+0700
TZOFFSETTO:+0800
TZNAME:+08
DTSTART:20080329T190000
END:DAYLIGHT
BEGIN:STANDARD
TZOFFSETFROM:+0800
TZOFFSETTO:+0700
TZNAME:+07
DTSTART:20081025T190000
END:STANDARD
BEGIN:DAYLIGHT
TZOFFSETFROM:+0700
TZOFFSETTO:+0800
TZNAME:+08
DTSTART:20090328T190000
END:DAYLIGHT
BEGIN:STANDARD
TZOFFSETFROM:+0800
TZOFFSETTO:+0700
TZNAME:+07
DTSTART:20091024T190000
END:STANDARD
BEGIN:DAYLIGHT
TZOFFSETFROM:+0700
TZOFFSETTO:+0800
TZNAME:+08
DTSTART:20100327T190000
END:DAYLIGHT
BEGIN:STANDARD
TZOFFSETFROM:+0800
TZOFFSETTO:+0700
TZNAME:+07
DTSTART:20101030T190000
END:STANDARD
BEGIN:STANDARD
TZOFFSETFROM:+0700
TZOFFSETTO:+0800
TZNAME:+08
DTSTART:20110326T190000
END:STANDARD
BEGIN:STANDARD
TZOFFSETFROM:+0800
TZOFFSETTO:+0700
TZNAME:+07
DTSTART:20141025T180000
END:STANDARD
END:VTIMEZONE
BEGIN:VEVENT
DTSTART;TZID=Asia/Krasnoyarsk:20260420T215016
DTEND;TZID=Asia/Krasnoyarsk:20251110T235900
DTSTAMP:20260420T215016
CREATED:20251028T040446Z
LAST-MODIFIED:20251028T040446Z
UID:9996-0-1762819140@orari.or.id
SUMMARY:SES 8A10N
DESCRIPTION:View Fullscreen
URL:https://orari.or.id/event/ses-8a10n/
CATEGORIES:SES
ATTACH;FMTTYPE=image/jpeg:https://orari.or.id/wp-content/uploads/2025/10/WhatsApp-Image-2025-10-24-at-06.04.24.jpeg
END:VEVENT
BEGIN:VEVENT
DTSTART;TZID=Asia/Krasnoyarsk:20240426T000000
DTEND;TZID=Asia/Krasnoyarsk:20240427T235900
DTSTAMP:20260420T215016
CREATED:20240423T011619Z
LAST-MODIFIED:20240423T011657Z
UID:7375-1714089600-1714262340@orari.or.id
SUMMARY:SES 8B5HKB
DESCRIPTION:View Fullscreen
URL:https://orari.or.id/event/ses-8b5hkb/
CATEGORIES:SES
ATTACH;FMTTYPE=image/jpeg:https://orari.or.id/wp-content/uploads/2024/04/WhatsApp-Image-2024-04-22-at-02.39.36.jpeg
END:VEVENT
BEGIN:VEVENT
DTSTART;TZID=Asia/Krasnoyarsk:20240427T000000
DTEND;TZID=Asia/Krasnoyarsk:20240428T235900
DTSTAMP:20260420T215016
CREATED:20240423T011921Z
LAST-MODIFIED:20240423T011921Z
UID:7379-1714176000-1714348740@orari.or.id
SUMMARY:SES 8B25D
DESCRIPTION:View Fullscreen
URL:https://orari.or.id/event/ses-8b25d/
CATEGORIES:SES
ATTACH;FMTTYPE=image/jpeg:https://orari.or.id/wp-content/uploads/2024/04/Beige-and-Red-Modern-Simple-Happy-Birthday-Card_20240422_121159_0000.jpg
END:VEVENT
BEGIN:VEVENT
DTSTART;TZID=Asia/Krasnoyarsk:20240427T000000
DTEND;TZID=Asia/Krasnoyarsk:20240428T235900
DTSTAMP:20260420T215016
CREATED:20240423T163546Z
LAST-MODIFIED:20240424T125639Z
UID:7387-1714176000-1714348740@orari.or.id
SUMMARY:SES 8A99WARD
DESCRIPTION:Dalam Rangka Memperingati Hari Amatir Radio Sedunia ORARI Milenial Akan melaksanakan Kegiatan Special Event Station 8A99WARD berlangsung pada \nTanggal : 27-28 April 2024 Jam : 00:00-23:59UTC \n \nBerikut Ini Juklak Kegiatan Kami \nView Fullscreen\n 
URL:https://orari.or.id/event/ses-8a99ward/
CATEGORIES:AWARD,SES
ATTACH;FMTTYPE=image/jpeg:https://orari.or.id/wp-content/uploads/2024/04/72966242-9bf4-4291-bdb5-f7b159e88ddc.jpeg
ORGANIZER;CN="ORARI MILENIAL":MAILTO:orarimilenial@gmail.com
END:VEVENT
BEGIN:VEVENT
DTSTART;TZID=Asia/Krasnoyarsk:20240427T000000
DTEND;TZID=Asia/Krasnoyarsk:20240428T235900
DTSTAMP:20260420T215016
CREATED:20240429T004631Z
LAST-MODIFIED:20240429T004631Z
UID:7408-1714176000-1714348740@orari.or.id
SUMMARY:SES 8A446SMD
DESCRIPTION:View Fullscreen
URL:https://orari.or.id/event/ses-8a446smd/
CATEGORIES:SES
ATTACH;FMTTYPE=image/jpeg:https://orari.or.id/wp-content/uploads/2024/04/WhatsApp-Image-2024-04-25-at-6.14.44-PM.jpeg
END:VEVENT
BEGIN:VEVENT
DTSTART;TZID=Asia/Krasnoyarsk:20240427T000000
DTEND;TZID=Asia/Krasnoyarsk:20240428T235900
DTSTAMP:20260420T215016
CREATED:20240429T005157Z
LAST-MODIFIED:20240429T005157Z
UID:7415-1714176000-1714348740@orari.or.id
SUMMARY:SES 8A819BNA
DESCRIPTION:
URL:https://orari.or.id/event/ses-8a819bna/
CATEGORIES:SES
ATTACH;FMTTYPE=image/jpeg:https://orari.or.id/wp-content/uploads/2024/04/IMG-20240425-WA0089.jpg
END:VEVENT
END:VCALENDAR