BEGIN:VCALENDAR
VERSION:2.0
PRODID:-//ORARI - ECPv6.15.12.2//NONSGML v1.0//EN
CALSCALE:GREGORIAN
METHOD:PUBLISH
X-ORIGINAL-URL:https://orari.or.id
X-WR-CALDESC:Events for ORARI
REFRESH-INTERVAL;VALUE=DURATION:PT1H
X-Robots-Tag:noindex
X-PUBLISHED-TTL:PT1H
BEGIN:VTIMEZONE
TZID:Asia/Krasnoyarsk
BEGIN:STANDARD
TZOFFSETFROM:+0700
TZOFFSETTO:+0700
TZNAME:+07
DTSTART:20230101T000000
END:STANDARD
END:VTIMEZONE
BEGIN:VEVENT
DTSTART;TZID=Asia/Krasnoyarsk:20241214T000000
DTEND;TZID=Asia/Krasnoyarsk:20241215T230000
DTSTAMP:20260420T081122
CREATED:20241203T114048Z
LAST-MODIFIED:20241203T114048Z
UID:8596-1734134400-1734303600@orari.or.id
SUMMARY:JATENG HAMFAIR - MUSDA VIII ORDA JATENG
DESCRIPTION:
URL:https://orari.or.id/event/jateng-hamfair-musda-viii-orda-jateng/
CATEGORIES:Hamfair
ATTACH;FMTTYPE=image/jpeg:https://orari.or.id/wp-content/uploads/2024/12/IMG_20241201_200817-1.jpg
END:VEVENT
END:VCALENDAR